BEGIN:VCALENDAR
VERSION:2.0
PRODID:icalendar-ruby
CALSCALE:GREGORIAN
METHOD:PUBLISH
BEGIN:VEVENT
DTSTAMP:20260422T021409Z
UID:9-949986@christchurchchatham.ca
DTSTART:20260810T153000Z
DTEND:20260810T163000Z
CLASS:PUBLIC
CREATED:20260421T210209
DESCRIPTION:
LAST-MODIFIED:20260421T210209
LOCATION:
SUMMARY:Monday Lunch Program
URL;VALUE=URI:https://www.christchurchchatham.ca/events/monday-lunch-progra
 m/2026-08-10
ATTACH;FILENAME=MondayBagLunch.png;FMTTYPE=image/png:https://dq5pwpg1q8ru0.
 cloudfront.net/2024/03/11/17/59/13/98babb7b-8bb3-461e-8c44-6c5119ef271b/Mo
 ndayBagLunch.png
END:VEVENT
END:VCALENDAR
