BEGIN:VCALENDAR
VERSION:2.0
PRODID:icalendar-ruby
CALSCALE:GREGORIAN
METHOD:PUBLISH
BEGIN:VEVENT
DTSTAMP:20260421T225409Z
UID:9-949204@christchurchchatham.ca
DTSTART:20260727T153000Z
DTEND:20260727T163000Z
CLASS:PUBLIC
CREATED:20260421T182327
DESCRIPTION:
LAST-MODIFIED:20260421T182327
LOCATION:
SUMMARY:Monday Lunch Program
URL;VALUE=URI:https://www.christchurchchatham.ca/events/monday-lunch-progra
 m/2026-07-27
ATTACH;FILENAME=MondayBagLunch.png;FMTTYPE=image/png:https://dq5pwpg1q8ru0.
 cloudfront.net/2024/03/11/17/59/13/98babb7b-8bb3-461e-8c44-6c5119ef271b/Mo
 ndayBagLunch.png
END:VEVENT
END:VCALENDAR
