BEGIN:VCALENDAR
VERSION:2.0
PRODID:icalendar-ruby
CALSCALE:GREGORIAN
METHOD:PUBLISH
BEGIN:VEVENT
DTSTAMP:20260425T153319Z
UID:48-966260@christchurchchatham.ca
DTSTART;VALUE=DATE:20261030
DTEND;VALUE=DATE:20261030
CLASS:PUBLIC
CREATED:20260425T103910
DESCRIPTION:Men’s Breakfast is held the 3rd Friday of each month at 8:00 
 am at Hungry Man’s Restaurant\, Keil Drive.
LAST-MODIFIED:20260425T103910
LOCATION:
SUMMARY:Men's Breakfast @ 8:00 am
URL;VALUE=URI:https://www.christchurchchatham.ca/events/mens-breakfast-8-00
 -am--48/2026-10-30
ATTACH;FILENAME=7Gbu.png;FMTTYPE=image/png:https://dq5pwpg1q8ru0.cloudfront
 .net/2024/03/29/23/08/40/faf349cc-39b6-4147-84af-b1ec132b252d/7Gbu.png
END:VEVENT
END:VCALENDAR
