BEGIN:VCALENDAR
VERSION:2.0
PRODID:icalendar-ruby
CALSCALE:GREGORIAN
METHOD:PUBLISH
BEGIN:VEVENT
DTSTAMP:20260422T083532Z
UID:183-844916@christchurchchatham.ca
DTSTART;VALUE=DATE:20260509
DTEND;VALUE=DATE:20260509
CLASS:PUBLIC
CREATED:20260330T113557
DESCRIPTION:Come and check it out. Something for everyone !
LAST-MODIFIED:20260330T113557
LOCATION:
SUMMARY:Christ Church Yard Sale
URL;VALUE=URI:https://www.christchurchchatham.ca/events/christ-church-yard-
 sale/2026-05-09
ATTACH;FILENAME=YardSaleMay9_2026.png;FMTTYPE=image/png:https://dq5pwpg1q8r
 u0.cloudfront.net/2026/03/30/15/35/03/1e4ae3cc-e935-46f2-9f53-7bdb0064e41f
 /YardSaleMay9_2026.png
END:VEVENT
END:VCALENDAR
