BEGIN:VCALENDAR
VERSION:2.0
PRODID:icalendar-ruby
CALSCALE:GREGORIAN
METHOD:PUBLISH
BEGIN:VEVENT
DTSTAMP:20260420T095014Z
UID:182-844914@christchurchchatham.ca
DTSTART;VALUE=DATE:20260605
DTEND;VALUE=DATE:20260605
CLASS:PUBLIC
CREATED:20260330T113221
DESCRIPTION:Get your tickets now\, for a most delicious meal.
LAST-MODIFIED:20260330T113221
LOCATION:
SUMMARY:Broasted Chicken Dinner Fundraiser
URL;VALUE=URI:https://www.christchurchchatham.ca/events/broasted-chicken-di
 nner-fundraiser/2026-06-05
ATTACH;FILENAME=BroastedChickenDinnerJune5_2026.png;FMTTYPE=image/png:https
 ://dq5pwpg1q8ru0.cloudfront.net/2026/03/30/15/31/05/5dab52e1-9bbd-49d0-adf
 2-d60dbb759c33/BroastedChickenDinnerJune5_2026.png
END:VEVENT
END:VCALENDAR
